BEGIN:VCALENDAR
VERSION:2.0
PRODID:-//Centro di Ecografia Prenatale - ECPv6.0.13//NONSGML v1.0//EN
CALSCALE:GREGORIAN
METHOD:PUBLISH
X-ORIGINAL-URL:https://robertoconturso.com
X-WR-CALDESC:Eventi per Centro di Ecografia Prenatale
REFRESH-INTERVAL;VALUE=DURATION:PT1H
X-Robots-Tag:noindex
X-PUBLISHED-TTL:PT1H
BEGIN:VTIMEZONE
TZID:Europe/Rome
BEGIN:DAYLIGHT
TZOFFSETFROM:+0100
TZOFFSETTO:+0200
TZNAME:CEST
DTSTART:20050327T010000
END:DAYLIGHT
BEGIN:STANDARD
TZOFFSETFROM:+0200
TZOFFSETTO:+0100
TZNAME:CET
DTSTART:20051030T010000
END:STANDARD
BEGIN:DAYLIGHT
TZOFFSETFROM:+0100
TZOFFSETTO:+0200
TZNAME:CEST
DTSTART:20060326T010000
END:DAYLIGHT
BEGIN:STANDARD
TZOFFSETFROM:+0200
TZOFFSETTO:+0100
TZNAME:CET
DTSTART:20061029T010000
END:STANDARD
BEGIN:DAYLIGHT
TZOFFSETFROM:+0100
TZOFFSETTO:+0200
TZNAME:CEST
DTSTART:20070325T010000
END:DAYLIGHT
BEGIN:STANDARD
TZOFFSETFROM:+0200
TZOFFSETTO:+0100
TZNAME:CET
DTSTART:20071028T010000
END:STANDARD
BEGIN:DAYLIGHT
TZOFFSETFROM:+0100
TZOFFSETTO:+0200
TZNAME:CEST
DTSTART:20080330T010000
END:DAYLIGHT
BEGIN:STANDARD
TZOFFSETFROM:+0200
TZOFFSETTO:+0100
TZNAME:CET
DTSTART:20081026T010000
END:STANDARD
BEGIN:DAYLIGHT
TZOFFSETFROM:+0100
TZOFFSETTO:+0200
TZNAME:CEST
DTSTART:20090329T010000
END:DAYLIGHT
BEGIN:STANDARD
TZOFFSETFROM:+0200
TZOFFSETTO:+0100
TZNAME:CET
DTSTART:20091025T010000
END:STANDARD
BEGIN:DAYLIGHT
TZOFFSETFROM:+0100
TZOFFSETTO:+0200
TZNAME:CEST
DTSTART:20100328T010000
END:DAYLIGHT
BEGIN:STANDARD
TZOFFSETFROM:+0200
TZOFFSETTO:+0100
TZNAME:CET
DTSTART:20101031T010000
END:STANDARD
BEGIN:DAYLIGHT
TZOFFSETFROM:+0100
TZOFFSETTO:+0200
TZNAME:CEST
DTSTART:20110327T010000
END:DAYLIGHT
BEGIN:STANDARD
TZOFFSETFROM:+0200
TZOFFSETTO:+0100
TZNAME:CET
DTSTART:20111030T010000
END:STANDARD
BEGIN:DAYLIGHT
TZOFFSETFROM:+0100
TZOFFSETTO:+0200
TZNAME:CEST
DTSTART:20120325T010000
END:DAYLIGHT
BEGIN:STANDARD
TZOFFSETFROM:+0200
TZOFFSETTO:+0100
TZNAME:CET
DTSTART:20121028T010000
END:STANDARD
BEGIN:DAYLIGHT
TZOFFSETFROM:+0100
TZOFFSETTO:+0200
TZNAME:CEST
DTSTART:20130331T010000
END:DAYLIGHT
BEGIN:STANDARD
TZOFFSETFROM:+0200
TZOFFSETTO:+0100
TZNAME:CET
DTSTART:20131027T010000
END:STANDARD
BEGIN:DAYLIGHT
TZOFFSETFROM:+0100
TZOFFSETTO:+0200
TZNAME:CEST
DTSTART:20140330T010000
END:DAYLIGHT
BEGIN:STANDARD
TZOFFSETFROM:+0200
TZOFFSETTO:+0100
TZNAME:CET
DTSTART:20141026T010000
END:STANDARD
BEGIN:DAYLIGHT
TZOFFSETFROM:+0100
TZOFFSETTO:+0200
TZNAME:CEST
DTSTART:20150329T010000
END:DAYLIGHT
BEGIN:STANDARD
TZOFFSETFROM:+0200
TZOFFSETTO:+0100
TZNAME:CET
DTSTART:20151025T010000
END:STANDARD
BEGIN:DAYLIGHT
TZOFFSETFROM:+0100
TZOFFSETTO:+0200
TZNAME:CEST
DTSTART:20160327T010000
END:DAYLIGHT
BEGIN:STANDARD
TZOFFSETFROM:+0200
TZOFFSETTO:+0100
TZNAME:CET
DTSTART:20161030T010000
END:STANDARD
BEGIN:DAYLIGHT
TZOFFSETFROM:+0100
TZOFFSETTO:+0200
TZNAME:CEST
DTSTART:20170326T010000
END:DAYLIGHT
BEGIN:STANDARD
TZOFFSETFROM:+0200
TZOFFSETTO:+0100
TZNAME:CET
DTSTART:20171029T010000
END:STANDARD
BEGIN:DAYLIGHT
TZOFFSETFROM:+0100
TZOFFSETTO:+0200
TZNAME:CEST
DTSTART:20180325T010000
END:DAYLIGHT
BEGIN:STANDARD
TZOFFSETFROM:+0200
TZOFFSETTO:+0100
TZNAME:CET
DTSTART:20181028T010000
END:STANDARD
BEGIN:DAYLIGHT
TZOFFSETFROM:+0100
TZOFFSETTO:+0200
TZNAME:CEST
DTSTART:20190331T010000
END:DAYLIGHT
BEGIN:STANDARD
TZOFFSETFROM:+0200
TZOFFSETTO:+0100
TZNAME:CET
DTSTART:20191027T010000
END:STANDARD
BEGIN:DAYLIGHT
TZOFFSETFROM:+0100
TZOFFSETTO:+0200
TZNAME:CEST
DTSTART:20200329T010000
END:DAYLIGHT
BEGIN:STANDARD
TZOFFSETFROM:+0200
TZOFFSETTO:+0100
TZNAME:CET
DTSTART:20201025T010000
END:STANDARD
BEGIN:DAYLIGHT
TZOFFSETFROM:+0100
TZOFFSETTO:+0200
TZNAME:CEST
DTSTART:20210328T010000
END:DAYLIGHT
BEGIN:STANDARD
TZOFFSETFROM:+0200
TZOFFSETTO:+0100
TZNAME:CET
DTSTART:20211031T010000
END:STANDARD
BEGIN:DAYLIGHT
TZOFFSETFROM:+0100
TZOFFSETTO:+0200
TZNAME:CEST
DTSTART:20220327T010000
END:DAYLIGHT
BEGIN:STANDARD
TZOFFSETFROM:+0200
TZOFFSETTO:+0100
TZNAME:CET
DTSTART:20221030T010000
END:STANDARD
END:VTIMEZONE
BEGIN:VEVENT
DTSTART;VALUE=DATE:20220513
DTEND;VALUE=DATE:20220515
DTSTAMP:20260419T175745
CREATED:20230512T054418Z
LAST-MODIFIED:20230512T081236Z
UID:2423-1652400000-1652572799@robertoconturso.com
SUMMARY:Corso di ecografia ostetrica dalla diagnosi al counseling
DESCRIPTION:
URL:https://robertoconturso.com/event/corso-di-ecografia-ostetrica-dalla-diagnosi-al-counseling/
LOCATION:Centro Congressi “Antonino Zaniboni”\, Largo Pradella 1\, Mantova\, 46100\, Italia
CATEGORIES:Corsi/Congressi
ATTACH;FMTTYPE=image/jpeg:https://robertoconturso.com/wp-content/uploads/2023/05/Mantova22-programma-preliminare-03.jpg
ORGANIZER;CN="Symposia%20Organizzazione%20Congressi%20Srl":MAILTO:symposia@symposiacongressi.com
END:VEVENT
BEGIN:VEVENT
DTSTART;VALUE=DATE:20201211
DTEND;VALUE=DATE:20201213
DTSTAMP:20260419T175745
CREATED:20230512T045200Z
LAST-MODIFIED:20230512T051615Z
UID:2419-1607644800-1607817599@robertoconturso.com
SUMMARY:Studio Ecografico Avanzato del Cuore e dell’Encefalo Fetale
DESCRIPTION:
URL:https://robertoconturso.com/event/studio-ecografico-avanzato-del-cuore-e-dellencefalo-fetale/
LOCATION:Via Mike Bongiorno 9\, 20124 Milano\, Via Mike Bongiorno 9\, Milano\, 20124\, Italia
CATEGORIES:Corsi/Congressi
ATTACH;FMTTYPE=image/jpeg:https://robertoconturso.com/wp-content/uploads/2023/05/Studio-Ecografico-Avanzato-Del-Cuore-E-Dell-Encefalo-Fetale_Milano-11-e-12-dicembre-2020.jpg
END:VEVENT
BEGIN:VEVENT
DTSTART;VALUE=DATE:20170930
DTEND;VALUE=DATE:20171001
DTSTAMP:20260419T175745
CREATED:20170920T114832Z
LAST-MODIFIED:20200801T095852Z
UID:1891-1506729600-1506815999@robertoconturso.com
SUMMARY:Corso avanzato di ecografia tridimensionale in ginecologia e ostetricia
DESCRIPTION:
URL:https://robertoconturso.com/event/corso-avanzato-di-ecografia-tridimensionale-in-ginecologia-e-ostetricia/
LOCATION:Parco Golf Paradiso Castelnuovo\, Via Brolo 2/a\, Castelnuovo del Garda (VR)\, 37014\, Italia
CATEGORIES:Corsi/Congressi
ATTACH;FMTTYPE=image/jpeg:https://robertoconturso.com/wp-content/uploads/2020/07/aggiornamenti-in-diagnosi-prenatale-dalla-diagnosi-al-counselling.jpg
GEO:45.4257366;10.7139195
X-APPLE-STRUCTURED-LOCATION;VALUE=URI;X-ADDRESS=Parco Golf Paradiso Castelnuovo Via Brolo 2/a Castelnuovo del Garda (VR) 37014 Italia;X-APPLE-RADIUS=500;X-TITLE=Via Brolo 2/a:geo:10.7139195,45.4257366
END:VEVENT
BEGIN:VEVENT
DTSTART;VALUE=DATE:20170408
DTEND;VALUE=DATE:20170410
DTSTAMP:20260419T175745
CREATED:20170331T224916Z
LAST-MODIFIED:20200801T095755Z
UID:1911-1491609600-1491782399@robertoconturso.com
SUMMARY:Corso avanzato di ecografia tridimensionale in ginecologia e ostetricia
DESCRIPTION:
URL:https://robertoconturso.com/event/corso-avanzato-di-ecografia-tridimensionale-in-ginecologia-e-ostetricia-2/
LOCATION:Alma Mater Studiorum\, Via Belmeloro 14\, Bologna\, 40126\, Italia
CATEGORIES:Corsi/Congressi
ATTACH;FMTTYPE=image/jpeg:https://robertoconturso.com/wp-content/uploads/2020/08/corso-avanzato-di-ecografia-tridimensionale-ginecologia-e-ostetricia.jpg
ORGANIZER;CN="MCR%20Conference%20Sr":MAILTO:info@mcrconference.it
END:VEVENT
BEGIN:VEVENT
DTSTART;VALUE=DATE:20161025
DTEND;VALUE=DATE:20161027
DTSTAMP:20260419T175745
CREATED:20200801T191914Z
LAST-MODIFIED:20200801T191914Z
UID:1980-1477353600-1477526399@robertoconturso.com
SUMMARY:2°Corso avanzato teorico pratico di ecografia fetale: l’ecografia genetica dal 1° al 2° trimestre
DESCRIPTION:L’obiettivo di questo corso che integra teoria e pratica è di addestrare ecografisti già competenti in esami di primo livello allo studio ecografico genetico.
URL:https://robertoconturso.com/event/2corso-avanzato-teorico-pratico-di-ecografia-fetale-lecografia-genetica-dal-1-al-2-trimestre/
LOCATION:Ospedale San Raffaele\, Via Olgettina 60\, Milano\, 20132\, Italia
CATEGORIES:Corsi/Congressi
ATTACH;FMTTYPE=image/jpeg:https://robertoconturso.com/wp-content/uploads/2020/08/ecografia_fetale_2016.jpg
END:VEVENT
BEGIN:VEVENT
DTSTART;VALUE=DATE:20151006
DTEND;VALUE=DATE:20151007
DTSTAMP:20260419T175745
CREATED:20161001T190712Z
LAST-MODIFIED:20200801T191252Z
UID:1975-1444089600-1444175999@robertoconturso.com
SUMMARY:Ecografia fetale precoce e consulenza prenatale
DESCRIPTION:Lo scopo di questo corso è quello di integrare teoria e pratica presentando lo stato dell’arte della diagnostica prenatale nel primo trimestre partendo dallo studio dei quadri normali fino alla definizione dei quadri patologici più frequenti.
URL:https://robertoconturso.com/event/ecografia-fetale-precoce-e-consulenza-prenatale/
LOCATION:Ospedale San Raffaele\, Via Olgettina 60\, Milano\, 20132\, Italia
CATEGORIES:Corsi/Congressi
ATTACH;FMTTYPE=image/jpeg:https://robertoconturso.com/wp-content/uploads/2020/08/31-08-ECO-prenatale.jpg
END:VEVENT
BEGIN:VEVENT
DTSTART;VALUE=DATE:20140926
DTEND;VALUE=DATE:20140927
DTSTAMP:20260419T175745
CREATED:20200801T183936Z
LAST-MODIFIED:20200801T183936Z
UID:1971-1411689600-1411775999@robertoconturso.com
SUMMARY:Corso di formazione SIEOG: L’ecografia di screening Linee Guida
DESCRIPTION:L’ecografia di screening in Ostetricia e Ginecologia fondamentale nell’identificazione di casi a rischio per i quali è indicato l’invio a centri di riferimento.
URL:https://robertoconturso.com/event/corso-di-formazione-sieog-lecografia-di-screening-linee-guida/
LOCATION:Ospedale dei Bambini Vittore Buzzi\, Via Lodovico Castelvetro 32\, Milano\, 20154\, Italia
CATEGORIES:Corsi/Congressi
ATTACH;FMTTYPE=image/jpeg:https://robertoconturso.com/wp-content/uploads/2020/08/corso-di-formazione-sieog.jpg
END:VEVENT
BEGIN:VEVENT
DTSTART;VALUE=DATE:20140404
DTEND;VALUE=DATE:20140406
DTSTAMP:20260419T175745
CREATED:20140401T182334Z
LAST-MODIFIED:20200801T183257Z
UID:1966-1396569600-1396742399@robertoconturso.com
SUMMARY:Ecografia della translucenza nucale: dascreening delle anomalie cromosomiche a screening delle gravidanze ad altoe basso rischio
DESCRIPTION:
URL:https://robertoconturso.com/event/ecografia-della-translucenza-nucale-dascreening-delle-anomalie-cromosomiche-a-screening-delle-gravidanze-ad-altoe-basso-rischio/
LOCATION:Grande Ospedale Metropolitano Niguarda\, Piazza dell'Ospedale Maggiore 3\, Milano\, 20162\, Italia
CATEGORIES:Corsi/Congressi
ATTACH;FMTTYPE=image/jpeg:https://robertoconturso.com/wp-content/uploads/2020/08/traslucenza.jpg
END:VEVENT
BEGIN:VEVENT
DTSTART;VALUE=DATE:20140125
DTEND;VALUE=DATE:20140126
DTSTAMP:20260419T175745
CREATED:20140101T161401Z
LAST-MODIFIED:20200801T152122Z
UID:1962-1390608000-1390694399@robertoconturso.com
SUMMARY:Nuove prospettive nello screening del 1 trimestre
DESCRIPTION:
URL:https://robertoconturso.com/event/nuove-prospettive-nello-screening-del-1-trimestre/
LOCATION:Associazione Villa del Grumello\, Via Cernobbio 11\, Como\, 22100
CATEGORIES:Corsi/Congressi
ATTACH;FMTTYPE=image/jpeg:https://robertoconturso.com/wp-content/uploads/2020/08/nuove-prospettive-nello-screening-del-primo-trimestre.jpg
END:VEVENT
BEGIN:VEVENT
DTSTART;VALUE=DATE:20130617
DTEND;VALUE=DATE:20130618
DTSTAMP:20260419T175745
CREATED:20130601T150924Z
LAST-MODIFIED:20200801T151328Z
UID:1958-1371427200-1371513599@robertoconturso.com
SUMMARY:Corso avanzato di ecografia ostetrica 2D e 3D: quadri normali inusuali e patologici
DESCRIPTION:
URL:https://robertoconturso.com/event/corso-avanzato-di-ecografia-ostetrica-2d-e-3d-quadri-normali-inusuali-e-patologici-2/
LOCATION:Hotel Monte Del Re\, Via Monte del Re 43\, Dozza\, 40060\, Italia
CATEGORIES:Corsi/Congressi
ATTACH;FMTTYPE=image/jpeg:https://robertoconturso.com/wp-content/uploads/2020/08/Dozza_Giugno_2013.jpg
END:VEVENT
BEGIN:VEVENT
DTSTART;VALUE=DATE:20130520
DTEND;VALUE=DATE:20130522
DTSTAMP:20260419T175745
CREATED:20200801T150827Z
LAST-MODIFIED:20200801T150827Z
UID:1954-1369008000-1369180799@robertoconturso.com
SUMMARY:Workshop Dall’Imaging alla Diagnosi 2nd edition
DESCRIPTION:Il Corso si vuole rivolgere in particolare ad ecografisti ostetrici mediamente esperti già in grado di effettuare prestazioni di I° livello\, fortemente motivati ad affinare ulteriormente la loro capacità diagnostica. A differenza di altri corsi più tradizionali\, gli aspetti innovativi e l’originalità del nostro consistono in una didattica totalmente interattiva. L’approccio\, sia di quadri fisiologici che patologici\, non verrà effettuato attraverso trattazioni sistematiche con lezioni “frontali”\, bensì esclusivamente attraverso la presentazione di una serie di immagini\, video e volumi tridimensionali. I partecipanti saranno stimolati\, da quesiti posti dai relatori\, ad individuare gli eventuali aspetti ecografici “anomali” fino a giungere al riconoscimento del quadro patologico di volta in volta presentato. La scelta di una location isolata con un numero limitato di partecipanti\, infine\, è stata concepita per favorire una più favorevole interazione tra relatori e discenti.
URL:https://robertoconturso.com/event/workshop-dallimaging-alla-diagnosi-2nd-edition/
LOCATION:Casino di Caccia Wine Resort\, Str. Ossario 64\, Custoza\, 37066\, Italia
CATEGORIES:Corsi/Congressi
ATTACH;FMTTYPE=image/jpeg:https://robertoconturso.com/wp-content/uploads/2020/08/ecografia-3d-4d-in-ostetricia-corso-teorico-pratico.jpg
END:VEVENT
BEGIN:VEVENT
DTSTART;VALUE=DATE:20111016
DTEND;VALUE=DATE:20111018
DTSTAMP:20260419T175745
CREATED:20111001T145250Z
LAST-MODIFIED:20200801T145723Z
UID:1944-1318723200-1318895999@robertoconturso.com
SUMMARY:Corso avanzato di ecografia ostetrica 2D e 3D: quadri normali inusuali e patologici
DESCRIPTION:
URL:https://robertoconturso.com/event/corso-avanzato-di-ecografia-ostetrica-2d-e-3d-quadri-normali-inusuali-e-patologici/
LOCATION:Hotel Monte Del Re\, Via Monte del Re 43\, Dozza\, 40060\, Italia
CATEGORIES:Corsi/Congressi
ATTACH;FMTTYPE=image/jpeg:https://robertoconturso.com/wp-content/uploads/2020/08/dozza_ottobre_2011.jpg
END:VEVENT
BEGIN:VEVENT
DTSTART;VALUE=DATE:20110513
DTEND;VALUE=DATE:20110515
DTSTAMP:20260419T175745
CREATED:20110501T145835Z
LAST-MODIFIED:20200801T150347Z
UID:1949-1305244800-1305417599@robertoconturso.com
SUMMARY:Workshop Dall’Imaging alla Diagnosi 1st edition
DESCRIPTION:
URL:https://robertoconturso.com/event/workshop-dallimaging-alla-diagnosi-1st-edition/
LOCATION:Relais Sant’Uffizio\, Strada Sant'Uffizio 1\, Cioccaro di Penango\, 14030\, Italia
CATEGORIES:Corsi/Congressi
ATTACH;FMTTYPE=image/jpeg:https://robertoconturso.com/wp-content/uploads/2020/08/SIEOG2015.jpg
END:VEVENT
BEGIN:VEVENT
DTSTART;VALUE=DATE:20101203
DTEND;VALUE=DATE:20101204
DTSTAMP:20260419T175745
CREATED:20101201T154716Z
LAST-MODIFIED:20200801T145154Z
UID:1940-1291334400-1291420799@robertoconturso.com
SUMMARY:Ecografia 3D/4D in ostetricia Corso\, teorico - pratico
DESCRIPTION:L’ecografia tridimensionale è ormai a pieno titolo entrata nella pratica ostetrica corrente. Le apparecchiature moderne attraverso la multiplanarietà della immagine 3D/4D consentono indagini di eccellente qualità e confidenza diagnostica.
URL:https://robertoconturso.com/event/ecografia-3d-4d-in-ostetricia-corso-teorico-pratico/
LOCATION:Azienda Ospedaliera Universitaria Integrata\, Piazzale Aristide Stefani 1\, Verona\, 37126\, Italia
CATEGORIES:Corsi/Congressi
ATTACH;FMTTYPE=image/jpeg:https://robertoconturso.com/wp-content/uploads/2020/08/ecografia-3d-4d-in-ostetricia.jpg
END:VEVENT
BEGIN:VEVENT
DTSTART;VALUE=DATE:20090515
DTEND;VALUE=DATE:20090517
DTSTAMP:20260419T175745
CREATED:20090501T132025Z
LAST-MODIFIED:20200801T132225Z
UID:1937-1242345600-1242518399@robertoconturso.com
SUMMARY:Corso teorico-pratico di ecocardiografia fetale: il cuore fetale dall’immagine in 2d allo studio in 3D4D
DESCRIPTION:
URL:https://robertoconturso.com/event/corso-teorico-pratico-di-ecocardiografia-fetale-il-cuore-fetale-dallimmagine-in-2d-allo-studio-in-3d4d/
LOCATION:Hotel Palace\, Lungo Lario Trieste 16\, Como\, 22100\, Italia
CATEGORIES:Corsi/Congressi
ATTACH;FMTTYPE=image/jpeg:https://robertoconturso.com/wp-content/uploads/2020/08/corso-avanzato-teorico-como.jpg
END:VEVENT
BEGIN:VEVENT
DTSTART;VALUE=DATE:20081204
DTEND;VALUE=DATE:20081205
DTSTAMP:20260419T175745
CREATED:20081201T140305Z
LAST-MODIFIED:20200801T130948Z
UID:1928-1228348800-1228435199@robertoconturso.com
SUMMARY:Diagnosi ecografica prenatale in 3D-4D il futuro della diagnostica
DESCRIPTION:
URL:https://robertoconturso.com/event/diagnosi-ecografica-prenatale-in-3d-4d-il-futuro-della-diagnostica/
LOCATION:Palazzo dei Congressi di Sirmione\, Via Comunità Europea 5\, Brescia\, 25019\, Italia
CATEGORIES:Corsi/Congressi
ATTACH;FMTTYPE=image/jpeg:https://robertoconturso.com/wp-content/uploads/2020/08/diagnosi-ecografica-prenatale-3d-4d.jpg
END:VEVENT
BEGIN:VEVENT
DTSTART;VALUE=DATE:20070514
DTEND;VALUE=DATE:20200517
DTSTAMP:20260419T175745
CREATED:20200801T113253Z
LAST-MODIFIED:20200801T113253Z
UID:1924-1179100800-1589673599@robertoconturso.com
SUMMARY:Corso avanzato teorico-pratico di ecocardiografia fetale
DESCRIPTION:Obiettivi\n1. Fornire elementi embriologia e di anatomia ecografica del cuore e delle grandi arterie nel feto.\n2. Saper riconoscere correttamente la lateralità del feto\, e la posizione del cuore nel torace fetale.\n3. Saper identificare le anomalie del situs viscerale e atriale.\n4. Saper eseguire correttamente la proiezione 4 camere ed ottimizzarne l’interpretazione in rapporto alle malformazioni cardiache più comuni.\n5. Conoscere ed eseguire le proiezioni ecografiche che permettono di valutare le connessioni ventricolo-arteriose del cuore fetale\, con particolare riferimento alle proiezioni trasversali del torace fetale.\n6. Fornire elementi sull’utilizzo della tecnologia tridimensionale volumetrica per lo studio del cuore fetale.\n7. Fornire conoscenze in merito al riconoscimento delle cause cardiovascolari di idrope fetale e alla loro gestione clinica.\n8. Fornire conoscenze in merito alla diagnosi delle aritmie fetali di più comune osservazione e alla loro gestione clinica. Il Corso si rivolge a medici\, Specialisti in Ostetricia e Ginecologia o in Cardiologia\, interessati allo studio ecocardiografico del cuore fetale. Il programma comprende lezioni su argomenti di base\, per introdurre a tale studio anche operatori meno esperti. La restante parte del corso offre una trattazione sistematica delle cardiopatie di più comune osservazione ed è in grado di soddisfare le esigenze di ecografisti più esperti che intendono effettuare uno studio del cuore fetale di livello avanzato\, inclusa l’applicazione del 3D e 4D volumetrico. E’ prevista una parte pratico-applicativa in cui ogni partecipante potrà eseguire alcuni esami con la supervisione dei docenti.
URL:https://robertoconturso.com/event/corso-avanzato-teorico-pratico-di-ecocardiografia-fetale-2/
LOCATION:Azienda Ospedaliera “Maggiore della Carità”\, Corso Giuseppe Mazzini 18\, Novara\, 28100\, Italia
CATEGORIES:Corsi/Congressi
ATTACH;FMTTYPE=image/jpeg:https://robertoconturso.com/wp-content/uploads/2020/08/corso-avanzato-teorico-novara.jpg
END:VEVENT
BEGIN:VEVENT
DTSTART;VALUE=DATE:20061202
DTEND;VALUE=DATE:20061203
DTSTAMP:20260419T175745
CREATED:20061201T113931Z
LAST-MODIFIED:20200801T104512Z
UID:1921-1165017600-1165103999@robertoconturso.com
SUMMARY:L’anatomia ecografica nello screening delle gravidanza a basso medio ed alto rischio
DESCRIPTION:
URL:https://robertoconturso.com/event/lanatomia-ecografica-nello-screening-delle-gravidanza-a-basso-medio-ed-alto-rischio/
LOCATION:Parco Tecnologico Padano\, Via Albert Einstein 1\, Lodi\, 26900\, Italia
CATEGORIES:Corsi/Congressi
ATTACH;FMTTYPE=image/jpeg:https://robertoconturso.com/wp-content/uploads/2020/07/lodi.jpg
END:VEVENT
BEGIN:VEVENT
DTSTART;VALUE=DATE:20050505
DTEND;VALUE=DATE:20050508
DTSTAMP:20260419T175745
CREATED:20200801T101534Z
LAST-MODIFIED:20230512T073114Z
UID:1917-1115251200-1115510399@robertoconturso.com
SUMMARY:Corso avanzato teorico-pratico di ecocardiografia fetale
DESCRIPTION:Il Corso si rivolge a medici\, Specialisti in Ostetricia e Ginecologia o in Cardiologia interessati allo studio ecocardiografico del cuore fetale. Il programma comprende lezioni su argomenti di base\, per introdurre a tale studio anche operatori meno esperti. La restante parte del corso offre una trattazione sistematica delle cardiopatie di più comune osservazione ed è in grado di soddisfare le esigenze di ecografisti più esperti che intendono effettuare uno studio del cuore fetale di livello avanzato\, inclusa l’applicazione del 3D e 4D volumetrico. È prevista una parte pratica-applicativa in cui ogni partecipante potrà eseguire alcuni esami con la supervisione dei docenti.
URL:https://robertoconturso.com/event/corso-avanzato-teorico-pratico-di-ecocardiografia-fetale/
LOCATION:Hotel Palace\, Lungo Lario Trieste 16\, Como\, 22100\, Italia
CATEGORIES:Corsi/Congressi
ATTACH;FMTTYPE=image/jpeg:https://robertoconturso.com/wp-content/uploads/2005/05/corso-avanzato-teorico-como-2005.jpg
END:VEVENT
END:VCALENDAR