BEGIN:VCALENDAR
VERSION:2.0
PRODID:-//Centro di Ecografia Prenatale - ECPv6.0.13//NONSGML v1.0//EN
CALSCALE:GREGORIAN
METHOD:PUBLISH
X-ORIGINAL-URL:https://robertoconturso.com
X-WR-CALDESC:Eventi per Centro di Ecografia Prenatale
REFRESH-INTERVAL;VALUE=DURATION:PT1H
X-Robots-Tag:noindex
X-PUBLISHED-TTL:PT1H
BEGIN:VTIMEZONE
TZID:Europe/Rome
BEGIN:DAYLIGHT
TZOFFSETFROM:+0100
TZOFFSETTO:+0200
TZNAME:CEST
DTSTART:20060326T010000
END:DAYLIGHT
BEGIN:STANDARD
TZOFFSETFROM:+0200
TZOFFSETTO:+0100
TZNAME:CET
DTSTART:20061029T010000
END:STANDARD
END:VTIMEZONE
BEGIN:VEVENT
DTSTART;VALUE=DATE:20061202
DTEND;VALUE=DATE:20061203
DTSTAMP:20260420T000737
CREATED:20061201T113931Z
LAST-MODIFIED:20200801T104512Z
UID:1921-1165017600-1165103999@robertoconturso.com
SUMMARY:L’anatomia ecografica nello screening delle gravidanza a basso medio ed alto rischio
DESCRIPTION:
URL:https://robertoconturso.com/event/lanatomia-ecografica-nello-screening-delle-gravidanza-a-basso-medio-ed-alto-rischio/
LOCATION:Parco Tecnologico Padano\, Via Albert Einstein 1\, Lodi\, 26900\, Italia
CATEGORIES:Corsi/Congressi
ATTACH;FMTTYPE=image/jpeg:https://robertoconturso.com/wp-content/uploads/2020/07/lodi.jpg
END:VEVENT
END:VCALENDAR