BEGIN:VCALENDAR
VERSION:2.0
PRODID:-//Centro di Ecografia Prenatale - ECPv6.0.13//NONSGML v1.0//EN
CALSCALE:GREGORIAN
METHOD:PUBLISH
X-ORIGINAL-URL:https://robertoconturso.com
X-WR-CALDESC:Eventi per Centro di Ecografia Prenatale
REFRESH-INTERVAL;VALUE=DURATION:PT1H
X-Robots-Tag:noindex
X-PUBLISHED-TTL:PT1H
BEGIN:VTIMEZONE
TZID:Europe/Rome
BEGIN:DAYLIGHT
TZOFFSETFROM:+0100
TZOFFSETTO:+0200
TZNAME:CEST
DTSTART:20080330T010000
END:DAYLIGHT
BEGIN:STANDARD
TZOFFSETFROM:+0200
TZOFFSETTO:+0100
TZNAME:CET
DTSTART:20081026T010000
END:STANDARD
END:VTIMEZONE
BEGIN:VEVENT
DTSTART;VALUE=DATE:20081204
DTEND;VALUE=DATE:20081205
DTSTAMP:20260420T000444
CREATED:20081201T140305Z
LAST-MODIFIED:20200801T130948Z
UID:1928-1228348800-1228435199@robertoconturso.com
SUMMARY:Diagnosi ecografica prenatale in 3D-4D il futuro della diagnostica
DESCRIPTION:
URL:https://robertoconturso.com/event/diagnosi-ecografica-prenatale-in-3d-4d-il-futuro-della-diagnostica/
LOCATION:Palazzo dei Congressi di Sirmione\, Via Comunità Europea 5\, Brescia\, 25019\, Italia
CATEGORIES:Corsi/Congressi
ATTACH;FMTTYPE=image/jpeg:https://robertoconturso.com/wp-content/uploads/2020/08/diagnosi-ecografica-prenatale-3d-4d.jpg
END:VEVENT
END:VCALENDAR