BEGIN:VCALENDAR
VERSION:2.0
PRODID:-//Centro di Ecografia Prenatale - ECPv6.0.13//NONSGML v1.0//EN
CALSCALE:GREGORIAN
METHOD:PUBLISH
X-ORIGINAL-URL:https://robertoconturso.com
X-WR-CALDESC:Eventi per Centro di Ecografia Prenatale
REFRESH-INTERVAL;VALUE=DURATION:PT1H
X-Robots-Tag:noindex
X-PUBLISHED-TTL:PT1H
BEGIN:VTIMEZONE
TZID:Europe/Rome
BEGIN:DAYLIGHT
TZOFFSETFROM:+0100
TZOFFSETTO:+0200
TZNAME:CEST
DTSTART:20220327T010000
END:DAYLIGHT
BEGIN:STANDARD
TZOFFSETFROM:+0200
TZOFFSETTO:+0100
TZNAME:CET
DTSTART:20221030T010000
END:STANDARD
END:VTIMEZONE
BEGIN:VEVENT
DTSTART;VALUE=DATE:20220513
DTEND;VALUE=DATE:20220515
DTSTAMP:20260419T175618
CREATED:20230512T054418Z
LAST-MODIFIED:20230512T081236Z
UID:2423-1652400000-1652572799@robertoconturso.com
SUMMARY:Corso di ecografia ostetrica dalla diagnosi al counseling
DESCRIPTION:
URL:https://robertoconturso.com/event/corso-di-ecografia-ostetrica-dalla-diagnosi-al-counseling/
LOCATION:Centro Congressi “Antonino Zaniboni”\, Largo Pradella 1\, Mantova\, 46100\, Italia
CATEGORIES:Corsi/Congressi
ATTACH;FMTTYPE=image/jpeg:https://robertoconturso.com/wp-content/uploads/2023/05/Mantova22-programma-preliminare-03.jpg
ORGANIZER;CN="Symposia%20Organizzazione%20Congressi%20Srl":MAILTO:symposia@symposiacongressi.com
END:VEVENT
END:VCALENDAR